BEGIN:VCALENDAR
VERSION:2.0
PRODID:-//C.A. Arizona - ECPv5.16.2.1//NONSGML v1.0//EN
CALSCALE:GREGORIAN
METHOD:PUBLISH
X-WR-CALNAME:C.A. Arizona
X-ORIGINAL-URL:https://caarizona.org
X-WR-CALDESC:Events for C.A. Arizona
REFRESH-INTERVAL;VALUE=DURATION:PT1H
X-Robots-Tag:noindex
X-PUBLISHED-TTL:PT1H
BEGIN:VTIMEZONE
TZID:UTC
BEGIN:STANDARD
TZOFFSETFROM:+0000
TZOFFSETTO:+0000
TZNAME:UTC
DTSTART:20200101T000000
END:STANDARD
END:VTIMEZONE
BEGIN:VEVENT
DTSTART;TZID=UTC:20200424T120000
DTEND;TZID=UTC:20200426T140000
DTSTAMP:20260425T090855
CREATED:20200126T005038Z
LAST-MODIFIED:20200203T105307Z
UID:8785-1587729600-1587909600@caarizona.org
SUMMARY:Apache Lake 25th Annual Round-up
DESCRIPTION:
URL:https://caarizona.org/event/apache-lake-25th-annual-round-up/
END:VEVENT
END:VCALENDAR